Package: CINdex Version: 1.34.0 Command: /home/biocbuild/bbs-3.20-bioc/R/bin/R CMD build --keep-empty-dirs --no-resave-data --md5 CINdex StartedAt: 2025-02-03 16:50:25 -0500 (Mon, 03 Feb 2025) EndedAt: 2025-02-03 16:54:13 -0500 (Mon, 03 Feb 2025) EllapsedTime: 227.2 seconds RetCode: 0 Status: OK PackageFile: CINdex_1.34.0.tar.gz PackageFileSize: 12.51 MiB