Package: CINdex Version: 1.34.0 Command: /home/biocbuild/bbs-3.20-bioc/R/bin/R CMD INSTALL CINdex StartedAt: 2025-02-10 15:19:55 -0500 (Mon, 10 Feb 2025) EndedAt: 2025-02-10 15:20:17 -0500 (Mon, 10 Feb 2025) EllapsedTime: 22.4 seconds RetCode: 0 Status: OK