Package: CINdex Version: 1.34.0 Command: F:\biocbuild\bbs-3.20-bioc\R\bin\R.exe CMD check --no-multiarch --install=check:CINdex.install-out.txt --library=F:\biocbuild\bbs-3.20-bioc\R\library --no-vignettes --timings CINdex_1.34.0.tar.gz StartedAt: 2025-02-04 00:17:34 -0500 (Tue, 04 Feb 2025) EndedAt: 2025-02-04 00:20:07 -0500 (Tue, 04 Feb 2025) EllapsedTime: 152.7 seconds RetCode: 0 Status: WARNINGS CheckDir: CINdex.Rcheck Warnings: 2