Package: CINdex Version: 1.34.0 Command: F:\biocbuild\bbs-3.20-bioc\R\bin\R.exe CMD INSTALL CINdex StartedAt: 2025-02-03 15:56:47 -0500 (Mon, 03 Feb 2025) EndedAt: 2025-02-03 15:57:23 -0500 (Mon, 03 Feb 2025) EllapsedTime: 35.7 seconds RetCode: 0 Status: OK