Package: CINdex Version: 1.34.0 Command: /home/biocbuild/R/R/bin/R CMD INSTALL CINdex StartedAt: 2025-02-10 20:19:31 -0000 (Mon, 10 Feb 2025) EndedAt: 2025-02-10 20:20:01 -0000 (Mon, 10 Feb 2025) EllapsedTime: 29.7 seconds RetCode: 0 Status: OK