Package: CMA Version: 1.64.0 Command: rm -rf CMA.buildbin-libdir && mkdir CMA.buildbin-libdir && /Users/biocbuild/BBS/utils/build-universal.sh CMA_1.64.0.tar.gz /Library/Frameworks/R.framework/Resources/bin/R CMA.buildbin-libdir StartedAt: 2025-02-05 15:17:05 -0500 (Wed, 05 Feb 2025) EndedAt: 2025-02-05 15:17:22 -0500 (Wed, 05 Feb 2025) EllapsedTime: 16.5 seconds RetCode: 0 Status: OK PackageFile: CMA_1.64.0.tgz PackageFileSize: 1.886 MiB