Package: CMA Version: 1.64.0 Command: /Library/Frameworks/R.framework/Resources/bin/R CMD INSTALL CMA StartedAt: 2025-02-03 15:10:10 -0500 (Mon, 03 Feb 2025) EndedAt: 2025-02-03 15:10:24 -0500 (Mon, 03 Feb 2025) EllapsedTime: 14.2 seconds RetCode: 0 Status: OK