Package: CMA Version: 1.64.0 Command: /Library/Frameworks/R.framework/Resources/bin/R CMD check --install=check:CMA.install-out.txt --library=/Library/Frameworks/R.framework/Resources/library --no-vignettes --timings CMA_1.64.0.tar.gz StartedAt: 2024-11-19 20:40:32 -0500 (Tue, 19 Nov 2024) EndedAt: 2024-11-19 20:45:06 -0500 (Tue, 19 Nov 2024) EllapsedTime: 273.8 seconds RetCode: 0 Status: OK CheckDir: CMA.Rcheck Warnings: 0