Package: CMA Version: 1.64.0 Command: /Library/Frameworks/R.framework/Resources/bin/R CMD INSTALL CMA StartedAt: 2025-01-30 15:07:08 -0500 (Thu, 30 Jan 2025) EndedAt: 2025-01-30 15:07:53 -0500 (Thu, 30 Jan 2025) EllapsedTime: 44.8 seconds RetCode: 0 Status: OK