Package: CMA Version: 1.64.0 Command: /home/biocbuild/bbs-3.20-bioc/R/bin/R CMD build --keep-empty-dirs --no-resave-data --md5 CMA StartedAt: 2025-02-03 16:53:18 -0500 (Mon, 03 Feb 2025) EndedAt: 2025-02-03 16:53:45 -0500 (Mon, 03 Feb 2025) EllapsedTime: 26.0 seconds RetCode: 0 Status: OK PackageFile: CMA_1.64.0.tar.gz PackageFileSize: 1.214 MiB