Package: CMA Version: 1.64.0 Command: /home/biocbuild/bbs-3.20-bioc/R/bin/R CMD check --install=check:CMA.install-out.txt --library=/home/biocbuild/bbs-3.20-bioc/R/site-library --timings CMA_1.64.0.tar.gz StartedAt: 2025-02-03 21:06:42 -0500 (Mon, 03 Feb 2025) EndedAt: 2025-02-03 21:07:42 -0500 (Mon, 03 Feb 2025) EllapsedTime: 60.1 seconds RetCode: 0 Status: OK CheckDir: CMA.Rcheck Warnings: 0