Package: CMA Version: 1.64.0 Command: rm -rf CMA.buildbin-libdir && mkdir CMA.buildbin-libdir && F:\biocbuild\bbs-3.20-bioc\R\bin\R.exe CMD INSTALL --build --library=CMA.buildbin-libdir CMA_1.64.0.tar.gz StartedAt: 2025-02-04 08:13:54 -0500 (Tue, 04 Feb 2025) EndedAt: 2025-02-04 08:14:43 -0500 (Tue, 04 Feb 2025) EllapsedTime: 48.2 seconds RetCode: 0 Status: OK PackageFile: CMA_1.64.0.zip PackageFileSize: 1.722 MiB