Package: CMA Version: 1.64.0 Command: chmod a+r CMA -R && F:\biocbuild\bbs-3.20-bioc\R\bin\R.exe CMD build --keep-empty-dirs --no-resave-data CMA StartedAt: 2025-02-03 18:13:30 -0500 (Mon, 03 Feb 2025) EndedAt: 2025-02-03 18:14:44 -0500 (Mon, 03 Feb 2025) EllapsedTime: 73.2 seconds RetCode: 0 Status: OK PackageFile: CMA_1.64.0.tar.gz PackageFileSize: 1.033 MiB