Package: CMA Version: 1.64.0 Command: F:\biocbuild\bbs-3.20-bioc\R\bin\R.exe CMD INSTALL CMA StartedAt: 2025-02-03 15:35:54 -0500 (Mon, 03 Feb 2025) EndedAt: 2025-02-03 15:36:42 -0500 (Mon, 03 Feb 2025) EllapsedTime: 47.7 seconds RetCode: 0 Status: OK