Package: CMA Version: 1.64.0 Command: /home/biocbuild/R/R/bin/R CMD build --keep-empty-dirs --no-resave-data CMA StartedAt: 2025-02-03 22:41:30 -0000 (Mon, 03 Feb 2025) EndedAt: 2025-02-03 22:42:10 -0000 (Mon, 03 Feb 2025) EllapsedTime: 40.0 seconds RetCode: 0 Status: OK PackageFile: CMA_1.64.0.tar.gz PackageFileSize: 1.197 MiB