Package: CMA Version: 1.64.0 Command: /home/biocbuild/R/R/bin/R CMD check --install=check:CMA.install-out.txt --library=/home/biocbuild/R/R/site-library --no-vignettes --timings CMA_1.64.0.tar.gz StartedAt: 2025-02-04 05:44:56 -0000 (Tue, 04 Feb 2025) EndedAt: 2025-02-04 05:45:56 -0000 (Tue, 04 Feb 2025) EllapsedTime: 60.0 seconds RetCode: 0 Status: OK CheckDir: CMA.Rcheck Warnings: 0