Package: CMA Version: 1.64.0 Command: /home/biocbuild/R/R/bin/R CMD INSTALL CMA StartedAt: 2025-01-30 20:06:33 -0000 (Thu, 30 Jan 2025) EndedAt: 2025-01-30 20:06:59 -0000 (Thu, 30 Jan 2025) EllapsedTime: 25.8 seconds RetCode: 0 Status: OK