Package: CNAnorm Version: 1.52.0 Command: rm -rf CNAnorm.buildbin-libdir && mkdir CNAnorm.buildbin-libdir && /Users/biocbuild/BBS/utils/build-universal.sh CNAnorm_1.52.0.tar.gz /Library/Frameworks/R.framework/Resources/bin/R CNAnorm.buildbin-libdir StartedAt: 2025-02-05 15:17:31 -0500 (Wed, 05 Feb 2025) EndedAt: 2025-02-05 15:17:41 -0500 (Wed, 05 Feb 2025) EllapsedTime: 10.3 seconds RetCode: 0 Status: OK PackageFile: CNAnorm_1.52.0.tgz PackageFileSize: 1.842 MiB