Package: CNAnorm Version: 1.52.0 Command: /Library/Frameworks/R.framework/Resources/bin/R CMD build --keep-empty-dirs --no-resave-data CNAnorm StartedAt: 2025-02-10 21:11:31 -0500 (Mon, 10 Feb 2025) EndedAt: 2025-02-10 21:11:57 -0500 (Mon, 10 Feb 2025) EllapsedTime: 25.9 seconds RetCode: 0 Status: OK PackageFile: CNAnorm_1.52.0.tar.gz PackageFileSize: 1.521 MiB