Package: CNAnorm Version: 1.52.0 Command: /home/biocbuild/bbs-3.20-bioc/R/bin/R CMD check --install=check:CNAnorm.install-out.txt --library=/home/biocbuild/bbs-3.20-bioc/R/site-library --timings CNAnorm_1.52.0.tar.gz StartedAt: 2025-02-10 20:59:22 -0500 (Mon, 10 Feb 2025) EndedAt: 2025-02-10 21:00:10 -0500 (Mon, 10 Feb 2025) EllapsedTime: 48.1 seconds RetCode: 0 Status: OK CheckDir: CNAnorm.Rcheck Warnings: 0