Package: CNAnorm Version: 1.52.0 Command: /home/biocbuild/bbs-3.20-bioc/R/bin/R CMD INSTALL CNAnorm StartedAt: 2025-02-03 15:17:40 -0500 (Mon, 03 Feb 2025) EndedAt: 2025-02-03 15:17:59 -0500 (Mon, 03 Feb 2025) EllapsedTime: 19.7 seconds RetCode: 0 Status: OK