Package: CNAnorm Version: 1.52.0 Command: /home/biocbuild/R/R/bin/R CMD build --keep-empty-dirs --no-resave-data CNAnorm StartedAt: 2025-02-03 22:42:13 -0000 (Mon, 03 Feb 2025) EndedAt: 2025-02-03 22:42:34 -0000 (Mon, 03 Feb 2025) EllapsedTime: 21.0 seconds RetCode: 0 Status: OK PackageFile: CNAnorm_1.52.0.tar.gz PackageFileSize: 1.513 MiB