Package: CNAnorm Version: 1.52.0 Command: /home/biocbuild/R/R/bin/R CMD check --install=check:CNAnorm.install-out.txt --library=/home/biocbuild/R/R/site-library --no-vignettes --timings CNAnorm_1.52.0.tar.gz StartedAt: 2025-02-11 04:57:32 -0000 (Tue, 11 Feb 2025) EndedAt: 2025-02-11 04:58:23 -0000 (Tue, 11 Feb 2025) EllapsedTime: 51.1 seconds RetCode: 0 Status: OK CheckDir: CNAnorm.Rcheck Warnings: 0