Package: CNEr Version: 1.42.0 Command: /Library/Frameworks/R.framework/Resources/bin/R CMD build --keep-empty-dirs --no-resave-data CNEr StartedAt: 2025-02-03 21:01:08 -0500 (Mon, 03 Feb 2025) EndedAt: 2025-02-03 21:03:18 -0500 (Mon, 03 Feb 2025) EllapsedTime: 129.9 seconds RetCode: 0 Status: OK PackageFile: CNEr_1.42.0.tar.gz PackageFileSize: 9.599 MiB