Package: CNEr Version: 1.42.0 Command: /Library/Frameworks/R.framework/Resources/bin/R CMD INSTALL CNEr StartedAt: 2025-02-03 15:39:22 -0500 (Mon, 03 Feb 2025) EndedAt: 2025-02-03 15:41:10 -0500 (Mon, 03 Feb 2025) EllapsedTime: 108.1 seconds RetCode: 0 Status: OK