Package: CNORfeeder Version: 1.46.0 Command: /Library/Frameworks/R.framework/Resources/bin/R CMD build --keep-empty-dirs --no-resave-data CNORfeeder StartedAt: 2025-02-10 21:12:50 -0500 (Mon, 10 Feb 2025) EndedAt: 2025-02-10 21:13:11 -0500 (Mon, 10 Feb 2025) EllapsedTime: 21.3 seconds RetCode: 0 Status: OK PackageFile: CNORfeeder_1.46.0.tar.gz PackageFileSize: 3.435 MiB