Package: CNORfeeder Version: 1.46.0 Command: rm -rf CNORfeeder.buildbin-libdir && mkdir CNORfeeder.buildbin-libdir && /Users/biocbuild/BBS/utils/build-universal.sh CNORfeeder_1.46.0.tar.gz /Library/Frameworks/R.framework/Resources/bin/R CNORfeeder.buildbin-libdir StartedAt: 2025-02-04 12:41:36 -0500 (Tue, 04 Feb 2025) EndedAt: 2025-02-04 12:41:57 -0500 (Tue, 04 Feb 2025) EllapsedTime: 21.0 seconds RetCode: 0 Status: OK PackageFile: CNORfeeder_1.46.0.tgz PackageFileSize: 2.1 MiB