Package: CNORfeeder Version: 1.46.0 Command: rm -rf CNORfeeder.buildbin-libdir && mkdir CNORfeeder.buildbin-libdir && F:\biocbuild\bbs-3.20-bioc\R\bin\R.exe CMD INSTALL --build --library=CNORfeeder.buildbin-libdir CNORfeeder_1.46.0.tar.gz StartedAt: 2025-02-04 08:14:11 -0500 (Tue, 04 Feb 2025) EndedAt: 2025-02-04 08:14:40 -0500 (Tue, 04 Feb 2025) EllapsedTime: 29.3 seconds RetCode: 0 Status: OK PackageFile: CNORfeeder_1.46.0.zip PackageFileSize: 1.966 MiB