Package: CNORfeeder Version: 1.46.0 Command: chmod a+r CNORfeeder -R && F:\biocbuild\bbs-3.20-bioc\R\bin\R.exe CMD build --keep-empty-dirs --no-resave-data CNORfeeder StartedAt: 2025-02-10 18:08:55 -0500 (Mon, 10 Feb 2025) EndedAt: 2025-02-10 18:09:22 -0500 (Mon, 10 Feb 2025) EllapsedTime: 27.1 seconds RetCode: 0 Status: OK PackageFile: CNORfeeder_1.46.0.tar.gz PackageFileSize: 3.297 MiB