Package: CNORfuzzy Version: 1.48.0 Command: /Library/Frameworks/R.framework/Resources/bin/R CMD INSTALL CNORfuzzy StartedAt: 2025-02-03 16:32:11 -0500 (Mon, 03 Feb 2025) EndedAt: 2025-02-03 16:32:22 -0500 (Mon, 03 Feb 2025) EllapsedTime: 11.0 seconds RetCode: 0 Status: OK