Package: CNORfuzzy Version: 1.48.0 Command: rm -rf CNORfuzzy.buildbin-libdir && mkdir CNORfuzzy.buildbin-libdir && /Users/biocbuild/BBS/utils/build-universal.sh CNORfuzzy_1.48.0.tar.gz /Library/Frameworks/R.framework/Resources/bin/R CNORfuzzy.buildbin-libdir StartedAt: 2025-02-04 12:41:37 -0500 (Tue, 04 Feb 2025) EndedAt: 2025-02-04 12:42:00 -0500 (Tue, 04 Feb 2025) EllapsedTime: 23.2 seconds RetCode: 0 Status: OK PackageFile: CNORfuzzy_1.48.0.tgz PackageFileSize: 692.1 KiB