Package: CNORfuzzy Version: 1.48.0 Command: /home/biocbuild/bbs-3.20-bioc/R/bin/R CMD build --keep-empty-dirs --no-resave-data --md5 CNORfuzzy StartedAt: 2025-02-03 16:54:07 -0500 (Mon, 03 Feb 2025) EndedAt: 2025-02-03 16:54:27 -0500 (Mon, 03 Feb 2025) EllapsedTime: 20.0 seconds RetCode: 0 Status: OK PackageFile: CNORfuzzy_1.48.0.tar.gz PackageFileSize: 923.6 KiB