Package: CNORfuzzy Version: 1.48.0 Command: /home/biocbuild/bbs-3.20-bioc/R/bin/R CMD check --install=check:CNORfuzzy.install-out.txt --library=/home/biocbuild/bbs-3.20-bioc/R/site-library --timings CNORfuzzy_1.48.0.tar.gz StartedAt: 2025-02-03 21:07:50 -0500 (Mon, 03 Feb 2025) EndedAt: 2025-02-03 21:09:01 -0500 (Mon, 03 Feb 2025) EllapsedTime: 71.1 seconds RetCode: 0 Status: OK CheckDir: CNORfuzzy.Rcheck Warnings: 0