Package: CNORfuzzy Version: 1.48.0 Command: /home/biocbuild/R/R/bin/R CMD build --keep-empty-dirs --no-resave-data CNORfuzzy StartedAt: 2025-02-03 22:42:36 -0000 (Mon, 03 Feb 2025) EndedAt: 2025-02-03 22:43:02 -0000 (Mon, 03 Feb 2025) EllapsedTime: 26.0 seconds RetCode: 0 Status: OK PackageFile: CNORfuzzy_1.48.0.tar.gz PackageFileSize: 911.5 KiB