Package: CNTools Version: 1.62.0 Command: /Library/Frameworks/R.framework/Resources/bin/R CMD INSTALL CNTools StartedAt: 2025-02-03 17:07:55 -0500 (Mon, 03 Feb 2025) EndedAt: 2025-02-03 17:08:18 -0500 (Mon, 03 Feb 2025) EllapsedTime: 22.6 seconds RetCode: 0 Status: OK