Package: CNTools Version: 1.62.0 Command: /Library/Frameworks/R.framework/Resources/bin/R CMD build --keep-empty-dirs --no-resave-data CNTools StartedAt: 2025-02-03 17:59:18 -0500 (Mon, 03 Feb 2025) EndedAt: 2025-02-03 18:00:29 -0500 (Mon, 03 Feb 2025) EllapsedTime: 70.8 seconds RetCode: 0 Status: OK PackageFile: CNTools_1.62.0.tar.gz PackageFileSize: 959.1 KiB