Package: CNTools Version: 1.62.0 Command: /Library/Frameworks/R.framework/Resources/bin/R CMD check --install=check:CNTools.install-out.txt --library=/Library/Frameworks/R.framework/Resources/library --no-vignettes --timings CNTools_1.62.0.tar.gz StartedAt: 2025-01-31 01:51:08 -0500 (Fri, 31 Jan 2025) EndedAt: 2025-01-31 01:56:15 -0500 (Fri, 31 Jan 2025) EllapsedTime: 307.8 seconds RetCode: 0 Status: OK CheckDir: CNTools.Rcheck Warnings: 0