Package: CNTools Version: 1.62.0 Command: /home/biocbuild/bbs-3.20-bioc/R/bin/R CMD build --keep-empty-dirs --no-resave-data --md5 CNTools StartedAt: 2025-01-30 16:45:04 -0500 (Thu, 30 Jan 2025) EndedAt: 2025-01-30 16:45:30 -0500 (Thu, 30 Jan 2025) EllapsedTime: 26.0 seconds RetCode: 0 Status: OK PackageFile: CNTools_1.62.0.tar.gz PackageFileSize: 960.2 KiB