Package: CNTools Version: 1.62.0 Command: /home/biocbuild/bbs-3.20-bioc/R/bin/R CMD INSTALL CNTools StartedAt: 2025-01-30 15:42:45 -0500 (Thu, 30 Jan 2025) EndedAt: 2025-01-30 15:43:08 -0500 (Thu, 30 Jan 2025) EllapsedTime: 22.8 seconds RetCode: 0 Status: OK