Package: CNTools Version: 1.62.0 Command: rm -rf CNTools.buildbin-libdir && mkdir CNTools.buildbin-libdir && F:\biocbuild\bbs-3.20-bioc\R\bin\R.exe CMD INSTALL --build --library=CNTools.buildbin-libdir CNTools_1.62.0.tar.gz StartedAt: 2025-02-04 08:14:16 -0500 (Tue, 04 Feb 2025) EndedAt: 2025-02-04 08:14:55 -0500 (Tue, 04 Feb 2025) EllapsedTime: 38.6 seconds RetCode: 0 Status: OK PackageFile: CNTools_1.62.0.zip PackageFileSize: 1.103 MiB