Package: CNVMetrics Version: 1.10.0 Command: /Library/Frameworks/R.framework/Resources/bin/R CMD build --keep-empty-dirs --no-resave-data CNVMetrics StartedAt: 2025-01-30 21:12:27 -0500 (Thu, 30 Jan 2025) EndedAt: 2025-01-30 21:13:10 -0500 (Thu, 30 Jan 2025) EllapsedTime: 43.4 seconds RetCode: 0 Status: OK PackageFile: CNVMetrics_1.10.0.tar.gz PackageFileSize: 4.739 MiB