Package: CNVMetrics Version: 1.10.0 Command: F:\biocbuild\bbs-3.20-bioc\R\bin\R.exe CMD check --no-multiarch --install=check:CNVMetrics.install-out.txt --library=F:\biocbuild\bbs-3.20-bioc\R\library --no-vignettes --timings CNVMetrics_1.10.0.tar.gz StartedAt: 2025-01-31 00:41:20 -0500 (Fri, 31 Jan 2025) EndedAt: 2025-01-31 00:43:52 -0500 (Fri, 31 Jan 2025) EllapsedTime: 151.4 seconds RetCode: 0 Status: OK CheckDir: CNVMetrics.Rcheck Warnings: 0