Package: CNVMetrics Version: 1.10.0 Command: /home/biocbuild/R/R/bin/R CMD check --install=check:CNVMetrics.install-out.txt --library=/home/biocbuild/R/R/site-library --no-vignettes --timings CNVMetrics_1.10.0.tar.gz StartedAt: 2025-02-04 05:48:00 -0000 (Tue, 04 Feb 2025) EndedAt: 2025-02-04 05:50:34 -0000 (Tue, 04 Feb 2025) EllapsedTime: 154.2 seconds RetCode: 0 Status: OK CheckDir: CNVMetrics.Rcheck Warnings: 0