Package: CNVPanelizer Version: 1.38.0 Command: /Library/Frameworks/R.framework/Resources/bin/R CMD INSTALL CNVPanelizer StartedAt: 2025-02-03 18:03:56 -0500 (Mon, 03 Feb 2025) EndedAt: 2025-02-03 18:04:20 -0500 (Mon, 03 Feb 2025) EllapsedTime: 23.6 seconds RetCode: 0 Status: OK