Package: CNVPanelizer Version: 1.38.0 Command: /Library/Frameworks/R.framework/Resources/bin/R CMD build --keep-empty-dirs --no-resave-data CNVPanelizer StartedAt: 2025-01-30 18:04:44 -0500 (Thu, 30 Jan 2025) EndedAt: 2025-01-30 18:08:22 -0500 (Thu, 30 Jan 2025) EllapsedTime: 218.4 seconds RetCode: 0 Status: OK PackageFile: CNVPanelizer_1.38.0.tar.gz PackageFileSize: 363.2 KiB