Package: CNVPanelizer Version: 1.38.0 Command: /Library/Frameworks/R.framework/Resources/bin/R CMD INSTALL CNVPanelizer StartedAt: 2025-02-03 16:43:42 -0500 (Mon, 03 Feb 2025) EndedAt: 2025-02-03 16:44:27 -0500 (Mon, 03 Feb 2025) EllapsedTime: 44.8 seconds RetCode: 0 Status: OK