Package: CNVPanelizer Version: 1.38.0 Command: rm -rf CNVPanelizer.buildbin-libdir && mkdir CNVPanelizer.buildbin-libdir && F:\biocbuild\bbs-3.20-bioc\R\bin\R.exe CMD INSTALL --build --library=CNVPanelizer.buildbin-libdir CNVPanelizer_1.38.0.tar.gz StartedAt: 2025-02-04 08:14:30 -0500 (Tue, 04 Feb 2025) EndedAt: 2025-02-04 08:15:30 -0500 (Tue, 04 Feb 2025) EllapsedTime: 60.1 seconds RetCode: 0 Status: OK PackageFile: CNVPanelizer_1.38.0.zip PackageFileSize: 474.7 KiB