Package: CNVPanelizer Version: 1.38.0 Command: chmod a+r CNVPanelizer -R && F:\biocbuild\bbs-3.20-bioc\R\bin\R.exe CMD build --keep-empty-dirs --no-resave-data CNVPanelizer StartedAt: 2025-02-03 18:15:17 -0500 (Mon, 03 Feb 2025) EndedAt: 2025-02-03 18:17:12 -0500 (Mon, 03 Feb 2025) EllapsedTime: 115.4 seconds RetCode: 0 Status: OK PackageFile: CNVPanelizer_1.38.0.tar.gz PackageFileSize: 364.3 KiB