Package: CNVPanelizer Version: 1.38.0 Command: F:\biocbuild\bbs-3.20-bioc\R\bin\R.exe CMD INSTALL CNVPanelizer StartedAt: 2025-02-03 16:17:18 -0500 (Mon, 03 Feb 2025) EndedAt: 2025-02-03 16:18:17 -0500 (Mon, 03 Feb 2025) EllapsedTime: 59.3 seconds RetCode: 0 Status: OK