Package: CNVRanger Version: 1.22.0 Command: /Library/Frameworks/R.framework/Resources/bin/R CMD build --keep-empty-dirs --no-resave-data CNVRanger StartedAt: 2025-02-03 21:05:19 -0500 (Mon, 03 Feb 2025) EndedAt: 2025-02-03 21:09:00 -0500 (Mon, 03 Feb 2025) EllapsedTime: 221.6 seconds RetCode: 0 Status: OK PackageFile: CNVRanger_1.22.0.tar.gz PackageFileSize: 2.035 MiB